BEGIN:VCALENDAR
VERSION:2.0
PRODID:-//Deine Wegbegleiterin - ECPv6.15.20//NONSGML v1.0//EN
CALSCALE:GREGORIAN
METHOD:PUBLISH
X-WR-CALNAME:Deine Wegbegleiterin
X-ORIGINAL-URL:https://deinewegbegleiterin.de
X-WR-CALDESC:Veranstaltungen für Deine Wegbegleiterin
REFRESH-INTERVAL;VALUE=DURATION:PT1H
X-Robots-Tag:noindex
X-PUBLISHED-TTL:PT1H
BEGIN:VTIMEZONE
TZID:Europe/Berlin
BEGIN:DAYLIGHT
TZOFFSETFROM:+0100
TZOFFSETTO:+0200
TZNAME:CEST
DTSTART:20250330T010000
END:DAYLIGHT
BEGIN:STANDARD
TZOFFSETFROM:+0200
TZOFFSETTO:+0100
TZNAME:CET
DTSTART:20251026T010000
END:STANDARD
BEGIN:DAYLIGHT
TZOFFSETFROM:+0100
TZOFFSETTO:+0200
TZNAME:CEST
DTSTART:20260329T010000
END:DAYLIGHT
BEGIN:STANDARD
TZOFFSETFROM:+0200
TZOFFSETTO:+0100
TZNAME:CET
DTSTART:20261025T010000
END:STANDARD
BEGIN:DAYLIGHT
TZOFFSETFROM:+0100
TZOFFSETTO:+0200
TZNAME:CEST
DTSTART:20270328T010000
END:DAYLIGHT
BEGIN:STANDARD
TZOFFSETFROM:+0200
TZOFFSETTO:+0100
TZNAME:CET
DTSTART:20271031T010000
END:STANDARD
END:VTIMEZONE
BEGIN:VEVENT
DTSTART;TZID=Europe/Berlin:20260305T111500
DTEND;TZID=Europe/Berlin:20260305T150000
DTSTAMP:20260420T182355
CREATED:20260313T082120Z
LAST-MODIFIED:20260313T083919Z
UID:98-1772709300-1772722800@deinewegbegleiterin.de
SUMMARY:Vitalis St. Martin
DESCRIPTION:Teamentwicklung 3/4 Betreuung\nTeamentwicklung 2/4 Pflege
URL:https://deinewegbegleiterin.de/veranstaltung/vitalis-st-martin/
LOCATION:Marzling\, Germany
END:VEVENT
BEGIN:VEVENT
DTSTART;TZID=Europe/Berlin:20260309T100000
DTEND;TZID=Europe/Berlin:20260309T130000
DTSTAMP:20260420T182355
CREATED:20260313T083835Z
LAST-MODIFIED:20260313T084309Z
UID:110-1773050400-1773061200@deinewegbegleiterin.de
SUMMARY:Caritas Ost
DESCRIPTION:Mini-Workshop Deeskalation
URL:https://deinewegbegleiterin.de/veranstaltung/caritas-ost/
LOCATION:München\, Germany
END:VEVENT
BEGIN:VEVENT
DTSTART;TZID=Europe/Berlin:20260318T130000
DTEND;TZID=Europe/Berlin:20260318T143000
DTSTAMP:20260420T182355
CREATED:20260313T084253Z
LAST-MODIFIED:20260313T084253Z
UID:117-1773838800-1773844200@deinewegbegleiterin.de
SUMMARY:Haus Anna Elisabeth
DESCRIPTION:Zeitmanagement
URL:https://deinewegbegleiterin.de/veranstaltung/haus-anna-elisabeth/
LOCATION:Freising\, Germany
END:VEVENT
BEGIN:VEVENT
DTSTART;TZID=Europe/Berlin:20260326T103000
DTEND;TZID=Europe/Berlin:20260326T143000
DTSTAMP:20260420T182355
CREATED:20260313T084618Z
LAST-MODIFIED:20260313T084618Z
UID:120-1774521000-1774535400@deinewegbegleiterin.de
SUMMARY:Vitalis St. Martin
DESCRIPTION:Alle Führungskräfte \n\nFührungskräfteentwicklung ½\nFokus: Selbstwert & Kompetenzen stärken\, Feedback geben\nTeamentwicklung ¾ Pflege
URL:https://deinewegbegleiterin.de/veranstaltung/vitalis-st-martin-2/
LOCATION:Marzling\, Germany
END:VEVENT
END:VCALENDAR